BEGIN:VCALENDAR
VERSION:2.0
PRODID:-// - ECPv6.15.20//NONSGML v1.0//EN
CALSCALE:GREGORIAN
METHOD:PUBLISH
X-ORIGINAL-URL:https://sahabatayahsarah.or.id
X-WR-CALDESC:Events for 
REFRESH-INTERVAL;VALUE=DURATION:PT1H
X-Robots-Tag:noindex
X-PUBLISHED-TTL:PT1H
BEGIN:VTIMEZONE
TZID:UTC
BEGIN:STANDARD
TZOFFSETFROM:+0000
TZOFFSETTO:+0000
TZNAME:UTC
DTSTART:20211231T170000
END:STANDARD
END:VTIMEZONE
BEGIN:VTIMEZONE
TZID:Asia/Krasnoyarsk
BEGIN:STANDARD
TZOFFSETFROM:+0700
TZOFFSETTO:+0700
TZNAME:+07
DTSTART:20211231T170000
END:STANDARD
END:VTIMEZONE
BEGIN:VEVENT
DTSTART;VALUE=DATE:20231103
DTEND;VALUE=DATE:20231104
DTSTAMP:20260423T165408
CREATED:20231014T023747Z
LAST-MODIFIED:20231105T044338Z
UID:2623-1699030800-1699117199@sahabatayahsarah.or.id
SUMMARY:Coping Mechanism Project
DESCRIPTION:Coping mechanism project berkunjungan untuk Memberikan Donasi dan Bersilaturahmi dengan anak-anak dampingan yayasan sahabat ayah sarah di rumah singgah.
URL:https://sahabatayahsarah.or.id/event/kunjungan-untuk-memberikan-donasi-dan-bersilaturahmi/
LOCATION:Rumah Singgah SAS\, 14\, Jl. Penggilingan Baru I Dalam No.29\, RT.14/RW.\, jakarta timur\, Jakarta Raya\, 13550\, Indonesia
CATEGORIES:Berbagi,kunjungan
ATTACH;FMTTYPE=image/png:https://sahabatayahsarah.or.id/wp-content/uploads/2023/10/COPING-MECHANISM-PROJECT.png
ORGANIZER;CN="Aldi Febrian":MAILTO:aldi1831@gmail.com
END:VEVENT
BEGIN:VEVENT
DTSTART;VALUE=DATE:20231104
DTEND;VALUE=DATE:20231105
DTSTAMP:20260423T165408
CREATED:20231104T143748Z
LAST-MODIFIED:20250722T013345Z
UID:2698-1699117200-1699203599@sahabatayahsarah.or.id
SUMMARY:Kunjungan COC Campaign
DESCRIPTION:
URL:https://sahabatayahsarah.or.id/event/kunjungan-coc-campaign/
LOCATION:Rumah Singgah SAS\, 14\, Jl. Penggilingan Baru I Dalam No.29\, RT.14/RW.\, jakarta timur\, Jakarta Raya\, 13550\, Indonesia
CATEGORIES:kunjungan,Penyaluran Donasi
ATTACH;FMTTYPE=image/png:https://sahabatayahsarah.or.id/wp-content/uploads/2023/11/COC.CAMPAIGN.png
ORGANIZER;CN="Coc Campaign":MAILTO:balle04yeuh@gmail.com
END:VEVENT
BEGIN:VEVENT
DTSTART;VALUE=DATE:20231109
DTEND;VALUE=DATE:20231110
DTSTAMP:20260423T165408
CREATED:20231109T114733Z
LAST-MODIFIED:20231222T130156Z
UID:2735-1699549200-1699635599@sahabatayahsarah.or.id
SUMMARY:Event PT. Darya Varia Laboratoria
DESCRIPTION:
URL:https://sahabatayahsarah.or.id/event/kunjungan-dari-pt-fajar-lestari-sejati/
LOCATION:Rumah Singgah SAS\, 14\, Jl. Penggilingan Baru I Dalam No.29\, RT.14/RW.\, jakarta timur\, Jakarta Raya\, 13550\, Indonesia
CATEGORIES:kunjungan
ATTACH;FMTTYPE=image/png:https://sahabatayahsarah.or.id/wp-content/uploads/2023/11/PT.-Darya-Varia-Laboratoria.png
ORGANIZER;CN="Farid":MAILTO:faridhakim.dekkson@gmail.com
END:VEVENT
BEGIN:VEVENT
DTSTART;VALUE=DATE:20231118
DTEND;VALUE=DATE:20231119
DTSTAMP:20260423T165408
CREATED:20231118T135653Z
LAST-MODIFIED:20231121T120959Z
UID:2761-1700326800-1700413199@sahabatayahsarah.or.id
SUMMARY:Kunjungan  dalam rangka Ulang Tahun Beby Tsabina
DESCRIPTION:
URL:https://sahabatayahsarah.or.id/event/kunjungan-berdonasi/
LOCATION:Rumah Singgah SAS\, 14\, Jl. Penggilingan Baru I Dalam No.29\, RT.14/RW.\, jakarta timur\, Jakarta Raya\, 13550\, Indonesia
CATEGORIES:Acara,Berbagi,kunjungan,Penyaluran Donasi
ATTACH;FMTTYPE=image/png:https://sahabatayahsarah.or.id/wp-content/uploads/2023/11/BEBY-EVENT.png
END:VEVENT
BEGIN:VEVENT
DTSTART;VALUE=DATE:20231123
DTEND;VALUE=DATE:20231124
DTSTAMP:20260423T165408
CREATED:20231124T150317Z
LAST-MODIFIED:20231127T085038Z
UID:2805-1700758800-1700845199@sahabatayahsarah.or.id
SUMMARY:Kunjungan dari Ka Fadilah
DESCRIPTION:
URL:https://sahabatayahsarah.or.id/event/kunjungan-dari-ka-fadila/
LOCATION:Rumah Singgah SAS\, 14\, Jl. Penggilingan Baru I Dalam No.29\, RT.14/RW.\, jakarta timur\, Jakarta Raya\, 13550\, Indonesia
CATEGORIES:Berbagi,kunjungan
ATTACH;FMTTYPE=image/png:https://sahabatayahsarah.or.id/wp-content/uploads/2023/11/KAK-FADILAH.png
END:VEVENT
BEGIN:VEVENT
DTSTART;VALUE=DATE:20231124
DTEND;VALUE=DATE:20231125
DTSTAMP:20260423T165408
CREATED:20231123T094001Z
LAST-MODIFIED:20231127T075510Z
UID:2780-1700845200-1700931599@sahabatayahsarah.or.id
SUMMARY:Lieco Foundation : "Lieco Family Peduli\,2023"
DESCRIPTION:
URL:https://sahabatayahsarah.or.id/event/kunjungan-dari-lieco-group/
LOCATION:Rumah Singgah SAS\, 14\, Jl. Penggilingan Baru I Dalam No.29\, RT.14/RW.\, jakarta timur\, Jakarta Raya\, 13550\, Indonesia
CATEGORIES:kunjungan
ATTACH;FMTTYPE=image/png:https://sahabatayahsarah.or.id/wp-content/uploads/2023/11/EVENT-LIECO.png
END:VEVENT
END:VCALENDAR