BEGIN:VCALENDAR
VERSION:2.0
PRODID:-// - ECPv6.15.20//NONSGML v1.0//EN
CALSCALE:GREGORIAN
METHOD:PUBLISH
X-ORIGINAL-URL:https://sahabatayahsarah.or.id
X-WR-CALDESC:Events for 
REFRESH-INTERVAL;VALUE=DURATION:PT1H
X-Robots-Tag:noindex
X-PUBLISHED-TTL:PT1H
BEGIN:VTIMEZONE
TZID:UTC
BEGIN:STANDARD
TZOFFSETFROM:+0000
TZOFFSETTO:+0000
TZNAME:UTC
DTSTART:20211231T170000
END:STANDARD
END:VTIMEZONE
BEGIN:VEVENT
DTSTART;VALUE=DATE:20231005
DTEND;VALUE=DATE:20231006
DTSTAMP:20260423T181935
CREATED:20230905T012237Z
LAST-MODIFIED:20231008T194821Z
UID:2202-1696525200-1696611599@sahabatayahsarah.or.id
SUMMARY:Komunitas Berbagi Jumat Berkah
DESCRIPTION:Komunitas Berbagi Jumat Berkah yang di adakan oleh Ibu Ida pada hari jumat 06 Oktober 2023\, berikut sebagai dokumentasi : \n      \nBegitu terpancar kebahagiaan anak-anak dampingan atas kunjungan ibu ida kerumah singgah kami\, terimakasih banyak #sahabat baik .
URL:https://sahabatayahsarah.or.id/event/komunitas-berbagi-jumat-berkah/
LOCATION:Rumah Singgah SAS\, 14\, Jl. Penggilingan Baru I Dalam No.29\, RT.14/RW.\, jakarta timur\, Jakarta Raya\, 13550\, Indonesia
CATEGORIES:Berbagi,kunjungan
ATTACH;FMTTYPE=image/png:https://sahabatayahsarah.or.id/wp-content/uploads/2023/09/bu-ida.png
ORGANIZER;CN="Ratna":MAILTO:dhe070711@yahoo.com
END:VEVENT
END:VCALENDAR