BEGIN:VCALENDAR
VERSION:2.0
PRODID:-// - ECPv6.15.20//NONSGML v1.0//EN
CALSCALE:GREGORIAN
METHOD:PUBLISH
X-ORIGINAL-URL:https://sahabatayahsarah.or.id
X-WR-CALDESC:Events for 
REFRESH-INTERVAL;VALUE=DURATION:PT1H
X-Robots-Tag:noindex
X-PUBLISHED-TTL:PT1H
BEGIN:VTIMEZONE
TZID:Asia/Krasnoyarsk
BEGIN:STANDARD
TZOFFSETFROM:+0700
TZOFFSETTO:+0700
TZNAME:+07
DTSTART:20211231T170000
END:STANDARD
END:VTIMEZONE
BEGIN:VEVENT
DTSTART;VALUE=DATE:20260313
DTEND;VALUE=DATE:20260314
DTSTAMP:20260422T192840
CREATED:20260317T112739Z
LAST-MODIFIED:20260317T112739Z
UID:7028-1773421200-1773507599@sahabatayahsarah.or.id
SUMMARY:Moonton Benihbaik.com
DESCRIPTION:
URL:https://sahabatayahsarah.or.id/event/moonton-benihbaik-com/
LOCATION:Jakarta Raya
CATEGORIES:Berbagi,Penyaluran Donasi
ATTACH;FMTTYPE=image/png:https://sahabatayahsarah.or.id/wp-content/uploads/2026/03/dlj.png
END:VEVENT
BEGIN:VEVENT
DTSTART;VALUE=DATE:20260308
DTEND;VALUE=DATE:20260309
DTSTAMP:20260422T192840
CREATED:20260317T114059Z
LAST-MODIFIED:20260317T114059Z
UID:7049-1772989200-1773075599@sahabatayahsarah.or.id
SUMMARY:Kunjungan Ka juliana
DESCRIPTION:
URL:https://sahabatayahsarah.or.id/event/kunjungan-ka-juliana/
LOCATION:Rumah Singgah SAS\, 14\, Jl. Penggilingan Baru I Dalam No.29\, RT.14/RW.\, jakarta timur\, Jakarta Raya\, 13550\, Indonesia
CATEGORIES:Berbagi,kunjungan
ATTACH;FMTTYPE=image/png:https://sahabatayahsarah.or.id/wp-content/uploads/2026/03/utuy.png
END:VEVENT
BEGIN:VEVENT
DTSTART;VALUE=DATE:20260307
DTEND;VALUE=DATE:20260308
DTSTAMP:20260422T192840
CREATED:20260317T113542Z
LAST-MODIFIED:20260317T113542Z
UID:7046-1772902800-1772989199@sahabatayahsarah.or.id
SUMMARY:Kunjungan Ka gita dan Teman-teman
DESCRIPTION:
URL:https://sahabatayahsarah.or.id/event/kunjungan-ka-gita-dan-teman-teman/
LOCATION:Rumah Singgah SAS\, 14\, Jl. Penggilingan Baru I Dalam No.29\, RT.14/RW.\, jakarta timur\, Jakarta Raya\, 13550\, Indonesia
CATEGORIES:Berbagi,kunjungan
ATTACH;FMTTYPE=image/png:https://sahabatayahsarah.or.id/wp-content/uploads/2026/03/dfhfj.png
END:VEVENT
BEGIN:VEVENT
DTSTART;VALUE=DATE:20260211
DTEND;VALUE=DATE:20260212
DTSTAMP:20260422T192840
CREATED:20260203T110844Z
LAST-MODIFIED:20260203T110844Z
UID:6411-1770829200-1770915599@sahabatayahsarah.or.id
SUMMARY:Kunjungan Ibu Efi
DESCRIPTION:
URL:https://sahabatayahsarah.or.id/event/kunjungan-ibu-efi/
LOCATION:Rumah Singgah SAS\, 14\, Jl. Penggilingan Baru I Dalam No.29\, RT.14/RW.\, jakarta timur\, Jakarta Raya\, 13550\, Indonesia
CATEGORIES:Berbagi,kunjungan
ATTACH;FMTTYPE=image/png:https://sahabatayahsarah.or.id/wp-content/uploads/2023/09/Tanpa-judul-430-×-300-piksel-2.png
END:VEVENT
BEGIN:VEVENT
DTSTART;VALUE=DATE:20260206
DTEND;VALUE=DATE:20260207
DTSTAMP:20260422T192840
CREATED:20260110T131647Z
LAST-MODIFIED:20260211T045124Z
UID:6045-1770397200-1770483599@sahabatayahsarah.or.id
SUMMARY:komunitas Soco Giving : Melakukan kegiatan sosial di YSAS
DESCRIPTION:komunitas Soco Giving : Melakukan kegiatan sosial di YSAS
URL:https://sahabatayahsarah.or.id/event/komunitas-soco-giving/
LOCATION:Rumah Singgah SAS\, 14\, Jl. Penggilingan Baru I Dalam No.29\, RT.14/RW.\, jakarta timur\, Jakarta Raya\, 13550\, Indonesia
CATEGORIES:Acara,Berbagi
ATTACH;FMTTYPE=image/png:https://sahabatayahsarah.or.id/wp-content/uploads/2026/01/dsdsf-1.png
END:VEVENT
BEGIN:VEVENT
DTSTART;VALUE=DATE:20260109
DTEND;VALUE=DATE:20260110
DTSTAMP:20260422T192840
CREATED:20260109T111323Z
LAST-MODIFIED:20260110T133945Z
UID:6032-1767978000-1768064399@sahabatayahsarah.or.id
SUMMARY:Acara bersama ka juliana
DESCRIPTION:Rumah Singgah Yayasan Sahabat Ayah Sarah kembali menjadi tempat penuh cerita dan kehangatan. Kali ini\, kebahagiaan hadir lewat kebersamaan bersama Ka Juliana\, yang meluangkan waktu untuk berkunjung dan berbagi momen bersama anak-anak dampingan. \nSejak awal kegiatan dimulai\, suasana terasa akrab dan sederhana. Anak-anak menyambut dengan senyum\, tawa\, dan rasa antusias yang tulus. Bukan acara besar atau mewah\, tapi justru dari kebersamaan inilah makna itu terasa. Duduk bersama\, mengobrol santai\, mendengarkan cerita\, dan saling berbagi energi positif menjadi inti dari pertemuan ini. \nKa Juliana hadir bukan hanya sebagai tamu\, tetapi sebagai sosok yang mengajak anak-anak merasa didengar dan diperhatikan. Interaksi yang hangat membuat anak-anak lebih berani bercerita\, tertawa lepas\, dan menikmati waktu tanpa rasa canggung. Di Rumah Singgah Yayasan Sahabat Ayah Sarah\, hal-hal kecil seperti ini punya arti besar bagi tumbuhnya semangat dan harapan. \nKegiatan ini juga menjadi pengingat bahwa dukungan moral dan kehadiran nyata sangat berarti bagi anak-anak yang sedang berjuang dengan kondisi kesehatan dan kehidupan mereka. Rumah singgah bukan sekadar tempat tinggal sementara\, tetapi ruang aman untuk memulihkan hati\, membangun rasa percaya diri\, dan menumbuhkan mimpi. \nMelalui acara kebersamaan bersama Ka Juliana ini\, Yayasan Sahabat Ayah Sarah terus berupaya menghadirkan lingkungan yang penuh empati dan kasih sayang. Harapannya\, setiap kunjungan\, cerita\, dan tawa yang tercipta bisa menjadi bekal semangat bagi anak-anak dampingan untuk terus melangkah ke hari esok dengan lebih kuat. \nTerima kasih untuk setiap pihak yang terus mendukung dan membersamai perjalanan anak-anak di Rumah Singgah Yayasan Sahabat Ayah Sarah. Karena dari kebersamaan sederhana\, lahir harapan yang luar biasa.
URL:https://sahabatayahsarah.or.id/event/acara-bersama-ka-juliana/
LOCATION:Rumah Singgah SAS\, 14\, Jl. Penggilingan Baru I Dalam No.29\, RT.14/RW.\, jakarta timur\, Jakarta Raya\, 13550\, Indonesia
CATEGORIES:Acara,Berbagi
ATTACH;FMTTYPE=image/png:https://sahabatayahsarah.or.id/wp-content/uploads/2026/01/sgfjgkjh.png
END:VEVENT
BEGIN:VEVENT
DTSTART;VALUE=DATE:20251229
DTEND;VALUE=DATE:20251230
DTSTAMP:20260422T192840
CREATED:20260110T125311Z
LAST-MODIFIED:20260110T125311Z
UID:6038-1767027600-1767113999@sahabatayahsarah.or.id
SUMMARY:Kunjungan Ibu Reni dan Teman Teman di Rumah Singgah Sahabat Ayah Sarah
DESCRIPTION:Kunjungan Ibu Reni dan Teman Teman di Rumah Singgah Sahabat Ayah Sarah
URL:https://sahabatayahsarah.or.id/event/kunjungan-ibu-reni/
LOCATION:Rumah Singgah SAS\, 14\, Jl. Penggilingan Baru I Dalam No.29\, RT.14/RW.\, jakarta timur\, Jakarta Raya\, 13550\, Indonesia
CATEGORIES:Berbagi,kunjungan
ATTACH;FMTTYPE=image/png:https://sahabatayahsarah.or.id/wp-content/uploads/2025/12/uyfy.png
END:VEVENT
BEGIN:VEVENT
DTSTART;VALUE=DATE:20251219
DTEND;VALUE=DATE:20251220
DTSTAMP:20260422T192840
CREATED:20260113T030535Z
LAST-MODIFIED:20260114T022000Z
UID:6057-1766163600-1766249999@sahabatayahsarah.or.id
SUMMARY:Acara Beyond The Miles Powered by Kitabisa di Cibis Park
DESCRIPTION:Acara Beyond The Miles Powered by Kitabisa di Cibis Park\nYayasan Sahabat Ayah Sarah menghadiri Acara Beyond The Miles Powered by Kitabisa di Cibis Park pada Sabtu\, 20 Desember 2025. Acara ini mempertemukan komunitas\, lembaga sosial\, dan pegiat kebaikan dalam satu ruang yang hangat dan terbuka. \nSejak awal\, panitia menciptakan suasana yang akrab dan penuh energi. Beyond The Miles memberi ruang bagi peserta untuk saling mengenal dan bertukar cerita. Selain itu\, setiap sesi mendorong percakapan yang relevan tentang kolaborasi dan dampak sosial. \nKitabisa menginisiasi acara ini sebagai bagian dari komitmennya dalam mendukung gerakan kebaikan. Tim penyelenggara menyusun rangkaian kegiatan dengan alur yang ringan dan mudah diikuti. Karena itu\, peserta dapat menikmati diskusi tanpa tekanan dan tetap fokus pada tujuan bersama. \nDi tengah kegiatan\, Yayasan Sahabat Ayah Sarah berkontribusi dengan menyalurkan donasi uang tunai sebesar Rp5.000.000. Donasi tersebut mendukung program sosial yang terus berjalan. Melalui kontribusi ini\, yayasan ingin memperluas manfaat dan menjangkau lebih banyak penerima. \nLebih jauh\, acara ini tidak hanya menyoroti soal donasi. Setiap interaksi membuka peluang kolaborasi baru. Oleh sebab itu\, percakapan ringan dan pertemuan singkat justru menjadi awal kerja sama yang berkelanjutan. \nSelain memperluas jejaring\, Beyond The Miles juga menumbuhkan rasa saling percaya antar komunitas. Banyak peserta membawa pulang ide segar dan semangat baru. Dengan begitu\, langkah kebaikan dapat terus bergerak dan berkembang. \nPada akhirnya\, Acara Beyond The Miles Powered by Kitabisa menegaskan bahwa kebaikan akan semakin kuat ketika banyak pihak berjalan bersama. Langkah kecil yang konsisten mampu menghadirkan dampak nyata. \nYayasan Sahabat Ayah Sarah mengucapkan terima kasih kepada Kitabisa atas undangan dan ruang kolaborasi ini. Semoga ke depan semakin banyak langkah kebaikan yang bisa kita tempuh bersama 🌱
URL:https://sahabatayahsarah.or.id/event/acara-beyond-the-miles-powered-by-kitabisa-di-cibis-park/
LOCATION:cibis park
CATEGORIES:Acara,Berbagi,Penyaluran Donasi
ATTACH;FMTTYPE=image/png:https://sahabatayahsarah.or.id/wp-content/uploads/2026/01/kjgfhgfu.png
END:VEVENT
BEGIN:VEVENT
DTSTART;VALUE=DATE:20251211
DTEND;VALUE=DATE:20251212
DTSTAMP:20260422T192840
CREATED:20260110T131009Z
LAST-MODIFIED:20260206T143429Z
UID:6041-1765472400-1765558799@sahabatayahsarah.or.id
SUMMARY:Kunjungan Donatur Tetap Bunda Kartika di Rumah Singgah Sahabat Ayah Sarah
DESCRIPTION:Kunjungan Donatur Tetap Bunda Kartika di Rumah Singgah Sahabat Ayah Sarah
URL:https://sahabatayahsarah.or.id/event/kunjungan-bunda-kartika/
LOCATION:Rumah Singgah SAS\, 14\, Jl. Penggilingan Baru I Dalam No.29\, RT.14/RW.\, jakarta timur\, Jakarta Raya\, 13550\, Indonesia
CATEGORIES:Berbagi,kunjungan
ATTACH;FMTTYPE=image/webp:https://sahabatayahsarah.or.id/wp-content/uploads/2026/02/kfhdtf.webp
END:VEVENT
BEGIN:VEVENT
DTSTART;VALUE=DATE:20251209
DTEND;VALUE=DATE:20251210
DTSTAMP:20260422T192840
CREATED:20260114T023419Z
LAST-MODIFIED:20260114T024709Z
UID:6067-1765299600-1765385999@sahabatayahsarah.or.id
SUMMARY:Kunjungan Darya Varia
DESCRIPTION:Kunjungan Darya Varia di Rumah Singgah Sahabat Ayah Sarah\nAlhamdulillah\, Rumah Singgah Yayasan Sahabat Ayah Sarah kembali kedatangan orang-orang baik. Pada Rabu\, 10 Desember 2025\, tim dari Darya Varia hadir untuk berkunjung dan membersamai adik-adik pejuang kesembuhan. Kehadiran ini membawa suasana hangat dan penuh keceriaan di rumah singgah. \nSejak awal kunjungan\, tim Darya Varia langsung menyapa adik-adik dengan ramah. Mereka tidak hanya datang untuk melihat\, tetapi juga mengajak adik-adik berinteraksi secara langsung. Suasana pun terasa lebih hidup ketika adik-adik bernyanyi bersama dan tertawa tanpa ragu. Momen sederhana ini menjadi hiburan yang sangat berarti di tengah perjuangan mereka. \nSelain itu\, tim Darya Varia juga berbagi bingkisan-bingkisan kecil yang membuat adik-adik semakin ceria. Senyum yang muncul di wajah mereka menjadi bukti bahwa perhatian dan kebersamaan memiliki arti besar. Tidak berhenti sampai di situ\, Darya Varia turut membawa berbagai kebutuhan untuk rumah singgah sebagai bentuk kepedulian yang nyata. \nMelalui kunjungan ini\, Darya Varia menyalurkan donasi berupa diapers\, susu khusus\, kasur pasien\, serta uang tunai donasi Christmas. Bantuan tersebut sangat membantu dalam memenuhi kebutuhan harian adik-adik selama menjalani masa perawatan. Dengan dukungan ini\, rumah singgah dapat terus memberikan pendampingan yang maksimal. \nKunjungan Darya Varia bukanlah yang pertama. Setiap tahun\, mereka konsisten hadir dan berbagi di Rumah Singgah Yayasan Sahabat Ayah Sarah. Oleh karena itu\, kebersamaan ini terasa semakin istimewa dan penuh makna. \nKami mengucapkan terima kasih yang sebesar-besarnya kepada seluruh tim Darya Varia atas kepedulian dan kebersamaan yang terus terjaga. Kami hanya bisa mendoakan semoga Darya Varia semakin sukses dan maju ke depannya\, sehingga dapat terus membersamai mereka yang membutuhkan. Aamiin 🤍
URL:https://sahabatayahsarah.or.id/event/kunjungan-darya-varia/
LOCATION:Rumah Singgah SAS\, 14\, Jl. Penggilingan Baru I Dalam No.29\, RT.14/RW.\, jakarta timur\, Jakarta Raya\, 13550\, Indonesia
CATEGORIES:Berbagi,kunjungan
ATTACH;FMTTYPE=image/png:https://sahabatayahsarah.or.id/wp-content/uploads/2026/01/hgfjdfk.png
END:VEVENT
BEGIN:VEVENT
DTSTART;VALUE=DATE:20251203
DTEND;VALUE=DATE:20251204
DTSTAMP:20260422T192840
CREATED:20260110T134806Z
LAST-MODIFIED:20260110T134807Z
UID:6049-1764781200-1764867599@sahabatayahsarah.or.id
SUMMARY:Kunjungan PT Triatra Sinergi Utama
DESCRIPTION:Kunjungan PT Triatra Sinergi Utama\nSuasana Rumah Singgah Yayasan Sahabat Ayah Sarah (YSAS) terasa lebih hangat dan penuh tawa saat PT Triatra Sinergi Utama hadir dalam kegiatan bertajuk “Hands of Hope”. Kunjungan ini menjadi momen kebersamaan yang berarti bagi adik-adik pejuang kesembuhan yang sedang menjalani masa perawatan. \nSejak awal kegiatan dimulai\, keceriaan langsung terlihat di wajah adik-adik. Kehadiran tim dari PT Triatra Sinergi Utama membawa energi positif yang membuat suasana Rumah Singgah semakin hidup. Tidak hanya datang berkunjung\, PT Triatra juga membersamai adik-adik dengan berbagai aktivitas seru dan menyenangkan. \nAdik-adik di ajak mengikuti fashion show sederhana\, bernyanyi bersama\, hingga berfoto-foto dengan penuh senyum. Aktivitas ini menjadi ruang bagi mereka untuk sejenak melupakan rutinitas pengobatan dan menikmati waktu bermain dengan hati yang lebih ringan. Tawa\, tepuk tangan\, dan sorak kecil mengisi setiap sudut Rumah Singgah. \nMelalui kegiatan Hands of Hope\, PT Triatra Sinergi Utama tidak hanya memberikan bantuan secara materi\, tetapi juga menghadirkan dukungan moral yang sangat berarti. Keceriaan yang tercipta diharapkan mampu menumbuhkan semangat baru bagi adik-adik untuk terus berjuang menuju kesembuhan. \nDalam kesempatan ini\, PT Triatra Sinergi Utama juga berbagi donasi berupa diapers\, susu khusus\, sembako\, kebutuhan harian pasien\, uang tunai\, serta bingkisan. Bantuan ini tentu sangat membantu dalam memenuhi kebutuhan sehari-hari adik-adik pejuang kesembuhan yang tinggal di Rumah Singgah YSAS. \nYayasan Sahabat Ayah Sarah mengucapkan terima kasih sebesar-besarnya kepada PT Triatra Sinergi Utama atas kunjungan\, kepedulian\, dan kebersamaan yang telah di berikan. Doa terbaik kami\, semoga PT Triatra Sinergi Utama semakin sukses ke depannya dan dapat terus menebar manfaat bagi sesama. Aamiin 🤍
URL:https://sahabatayahsarah.or.id/event/kunjungan-pt-triatra-sinergi-utama/
LOCATION:Rumah Singgah SAS\, 14\, Jl. Penggilingan Baru I Dalam No.29\, RT.14/RW.\, jakarta timur\, Jakarta Raya\, 13550\, Indonesia
CATEGORIES:Acara,Berbagi
ATTACH;FMTTYPE=image/png:https://sahabatayahsarah.or.id/wp-content/uploads/2026/01/jsrgj.png
END:VEVENT
BEGIN:VEVENT
DTSTART;VALUE=DATE:20251120
DTEND;VALUE=DATE:20251121
DTSTAMP:20260422T192840
CREATED:20251218T100736Z
LAST-MODIFIED:20251218T100736Z
UID:5897-1763658000-1763744399@sahabatayahsarah.or.id
SUMMARY:KUNJUNGAN RSM (RUMAH SEBAR MUJAHIDAH)
DESCRIPTION:KUNJUNGAN RSM (RUMAH SEBAR MUJAHIDAH) \nDengan tema berbagi bersama Rumah Sebar Mujahidah\, ibu-ibu berkunjung ke Rumah Singgah Yayasan\nSahabat Ayah Sarah untuk memberikan support kepada pejuang kesembuhan.\nDonasi : susu khusus\, kebutuhan pasien\, sembako\, kebutuhan dapur\, alat kesehatan\, buah dan bingkisan
URL:https://sahabatayahsarah.or.id/event/kunjungan-rsm-rumah-sebar-mujahidah/
LOCATION:Rumah Singgah SAS\, 14\, Jl. Penggilingan Baru I Dalam No.29\, RT.14/RW.\, jakarta timur\, Jakarta Raya\, 13550\, Indonesia
CATEGORIES:Berbagi,kunjungan
ATTACH;FMTTYPE=image/png:https://sahabatayahsarah.or.id/wp-content/uploads/2025/12/lijfjfgjh.png
END:VEVENT
BEGIN:VEVENT
DTSTART;VALUE=DATE:20251115
DTEND;VALUE=DATE:20251116
DTSTAMP:20260422T192840
CREATED:20251218T093624Z
LAST-MODIFIED:20251218T093624Z
UID:5890-1763226000-1763312399@sahabatayahsarah.or.id
SUMMARY:KUNJUNGAN TEMAN DAN KELUARGA SA (SPEED ADRENALINE)
DESCRIPTION:KUNJUNGAN TEMAN DAN KELUARGA SA (SPEED ADRENALINE) \nKemarin adik-adik mendapatkan kunjungan dari Teman dan Keluarga Speed Adrenaline (SA).\nSenangnya mereka kembali merasakan dukungan dari orang-orang baik. Dalam kunjungan ini Teman dan\nKeluarga SA berbagi mainan dan kebutuhan pasien dampingan. Terima Kasih Teman dan Keluarga SA yang\ntelah datang berkunjung dan berbagi berbagai macam kebutuhan pasien dampingan.\nSemoga Allah SWT membalas kebaikan ini dengan keberlimpahan rezeki\, dan kesuksesan dalam setiap\nlangkah. Aamiin\nDonasi : Mainan\, Bingkisan\, Susu Khusus\, Diapers\, Kebutuhan Pasien\, Sembako\, Bed cover\, play mate
URL:https://sahabatayahsarah.or.id/event/kunjungan-teman-dan-keluarga-sa-speed-adrenaline/
LOCATION:Rumah Singgah SAS\, 14\, Jl. Penggilingan Baru I Dalam No.29\, RT.14/RW.\, jakarta timur\, Jakarta Raya\, 13550\, Indonesia
CATEGORIES:Berbagi,kunjungan
ATTACH;FMTTYPE=image/png:https://sahabatayahsarah.or.id/wp-content/uploads/2025/12/sdgjjgfg.png
END:VEVENT
BEGIN:VEVENT
DTSTART;VALUE=DATE:20251107
DTEND;VALUE=DATE:20251108
DTSTAMP:20260422T192840
CREATED:20251214T020632Z
LAST-MODIFIED:20251214T021710Z
UID:5886-1762534800-1762621199@sahabatayahsarah.or.id
SUMMARY:KUNJUNGAN DARI PT CARAKA KE RUMAH SINGGAH YSAS
DESCRIPTION:KUNJUNGAN DARI PT CARAKA KE RUMAH SINGGAH YSAS \nAlhamdulillah Team PT. CARAKA kembali datang ke Rumah Singgah Yayasan SahabatAyahSarah.\nBeliau rutin untuk membersamai adik-adik pejuang kesembuhan. Kali ini beliau mengajak para adik-adik untuk\nbercerita\, bersenda gurau\, dan berbagi semangat. Beliau juga memberikan bantuan kebutuhan pasien untuk\ndi Rumah Singgah Yayasan SahabatAyahSarah.\nDonasi : Diapers\, susu khusus\, sembako\, mie instant\, kebutuhan harian pasien
URL:https://sahabatayahsarah.or.id/event/kunjungan-dari-pt-caraka-ke-rumah-singgah-ysas/
LOCATION:Rumah Singgah SAS\, 14\, Jl. Penggilingan Baru I Dalam No.29\, RT.14/RW.\, jakarta timur\, Jakarta Raya\, 13550\, Indonesia
CATEGORIES:Berbagi,kunjungan
ATTACH;FMTTYPE=image/jpeg:https://sahabatayahsarah.or.id/wp-content/uploads/2025/12/MConverter.eu_IMG_0743-1-scaled.jpg
END:VEVENT
BEGIN:VEVENT
DTSTART;VALUE=DATE:20251031
DTEND;VALUE=DATE:20251101
DTSTAMP:20260422T192840
CREATED:20251218T095841Z
LAST-MODIFIED:20251218T095841Z
UID:5894-1761930000-1762016399@sahabatayahsarah.or.id
SUMMARY:KUNJUNGAN UMMI YULIE DAN KELUARGA
DESCRIPTION:KUNJUNGAN UMMI YULIE DAN KELUARGA \nSenangnya kedatangan orang baik yang membersamai adik-adik pejuang kesembuhan…\nMinggu lalu Umi Yullie dan keluarganya hadir ditengah adik-adik di Rumah Singgah.\nSuasana penuh haru ketika bisa mengobrol bersama dan sedikit bercengkrama bersama Umi Yullie dan\nkeluarga. Terima kasih Umi Yullie dan keluarga yang telah meluangkan waktunya datang ke rumah singgah\ndan memberikan bantuan untuk adik-adik pejuang kesembuhan. Tentunya ini sangat-sangat bermanfaat bagi\nmereka. Semoga Allah SWT senantiasa melapangkan rezeki dan keberkahan\, serta disukseskan segala\nusahanya untuk Umi Yulli dan Keluarga. Aamiin\nDonasi : Diapers\, tisu basah\, masker anak\, sarung tangan
URL:https://sahabatayahsarah.or.id/event/kunjungan-ummi-yulie-dan-keluarga/
LOCATION:Rumah Singgah SAS\, 14\, Jl. Penggilingan Baru I Dalam No.29\, RT.14/RW.\, jakarta timur\, Jakarta Raya\, 13550\, Indonesia
CATEGORIES:Berbagi,kunjungan
ATTACH;FMTTYPE=image/png:https://sahabatayahsarah.or.id/wp-content/uploads/2025/12/huhuhu.png
END:VEVENT
BEGIN:VEVENT
DTSTART;TZID=Asia/Krasnoyarsk:20241102T010000
DTEND;TZID=Asia/Krasnoyarsk:20241103T100000
DTSTAMP:20260422T192840
CREATED:20241023T071158Z
LAST-MODIFIED:20241112T234841Z
UID:4163-1730509200-1730628000@sahabatayahsarah.or.id
SUMMARY:Ka Aldi Berbagi: Anak Dampingan YSAS
DESCRIPTION:
URL:https://sahabatayahsarah.or.id/event/ka-aldi-berbagi-anak-dampingan-ysas/
LOCATION:Rumah Singgah SAS\, 14\, Jl. Penggilingan Baru I Dalam No.29\, RT.14/RW.\, jakarta timur\, Jakarta Raya\, 13550\, Indonesia
CATEGORIES:Berbagi
ATTACH;FMTTYPE=image/png:https://sahabatayahsarah.or.id/wp-content/uploads/2024/10/aadiil.png
END:VEVENT
BEGIN:VEVENT
DTSTART;VALUE=DATE:20240906
DTEND;VALUE=DATE:20240907
DTSTAMP:20260422T192840
CREATED:20240823T143929Z
LAST-MODIFIED:20240916T031056Z
UID:3987-1725642000-1725728399@sahabatayahsarah.or.id
SUMMARY:Berbagi Bersama KPMG
DESCRIPTION:
URL:https://sahabatayahsarah.or.id/event/berbagi-bersama-kpmg/
LOCATION:Rumah Singgah SAS\, 14\, Jl. Penggilingan Baru I Dalam No.29\, RT.14/RW.\, jakarta timur\, Jakarta Raya\, 13550\, Indonesia
CATEGORIES:Berbagi
ATTACH;FMTTYPE=image/png:https://sahabatayahsarah.or.id/wp-content/uploads/2024/08/kpmgk.png
END:VEVENT
BEGIN:VEVENT
DTSTART;VALUE=DATE:20240827
DTEND;VALUE=DATE:20240828
DTSTAMP:20260422T192840
CREATED:20240904T101605Z
LAST-MODIFIED:20240904T101605Z
UID:4032-1724778000-1724864399@sahabatayahsarah.or.id
SUMMARY:Kebahagiaan yang sederhana bersama ka Seto
DESCRIPTION:
URL:https://sahabatayahsarah.or.id/event/kebahagiaan-yang-sederhana-bersama-ka-seto/
LOCATION:Rumah Singgah SAS\, 14\, Jl. Penggilingan Baru I Dalam No.29\, RT.14/RW.\, jakarta timur\, Jakarta Raya\, 13550\, Indonesia
CATEGORIES:Acara Ulang Tahun,Berbagi,kunjungan
ATTACH;FMTTYPE=image/png:https://sahabatayahsarah.or.id/wp-content/uploads/2024/09/event-kaet.png
END:VEVENT
BEGIN:VEVENT
DTSTART;VALUE=DATE:20240811
DTEND;VALUE=DATE:20240812
DTSTAMP:20260422T192840
CREATED:20240808T102619Z
LAST-MODIFIED:20240820T105348Z
UID:3967-1723395600-1723481999@sahabatayahsarah.or.id
SUMMARY:Berkunjung dan memberi support untuk pasien dan keluarga dari Group Tempe
DESCRIPTION:
URL:https://sahabatayahsarah.or.id/event/berkunjung-dan-memberi-support-untuk-pasien-dan-keluarga-dari-group-tempe/
LOCATION:Rumah Singgah SAS\, 14\, Jl. Penggilingan Baru I Dalam No.29\, RT.14/RW.\, jakarta timur\, Jakarta Raya\, 13550\, Indonesia
CATEGORIES:Berbagi
ATTACH;FMTTYPE=image/png:https://sahabatayahsarah.or.id/wp-content/uploads/2024/08/TEMPE.png
END:VEVENT
BEGIN:VEVENT
DTSTART;VALUE=DATE:20240709
DTEND;VALUE=DATE:20240710
DTSTAMP:20260422T192840
CREATED:20240717T121257Z
LAST-MODIFIED:20240717T121257Z
UID:3914-1720544400-1720630799@sahabatayahsarah.or.id
SUMMARY:Pt Ecosystem Internal
DESCRIPTION:
URL:https://sahabatayahsarah.or.id/event/pt-ecosystem-internal/
LOCATION:Rumah Singgah SAS\, 14\, Jl. Penggilingan Baru I Dalam No.29\, RT.14/RW.\, jakarta timur\, Jakarta Raya\, 13550\, Indonesia
CATEGORIES:Berbagi,kunjungan
ATTACH;FMTTYPE=image/png:https://sahabatayahsarah.or.id/wp-content/uploads/2024/07/ecosystem.png
END:VEVENT
BEGIN:VEVENT
DTSTART;VALUE=DATE:20240525
DTEND;VALUE=DATE:20240526
DTSTAMP:20260422T192840
CREATED:20240522T150713Z
LAST-MODIFIED:20240527T060251Z
UID:3824-1716656400-1716742799@sahabatayahsarah.or.id
SUMMARY:Acara Syukuran Ulang Tahun Ananda Pandu
DESCRIPTION:
URL:https://sahabatayahsarah.or.id/event/acara-syukuran-ulang-tahun/
LOCATION:Rumah Singgah SAS\, 14\, Jl. Penggilingan Baru I Dalam No.29\, RT.14/RW.\, jakarta timur\, Jakarta Raya\, 13550\, Indonesia
CATEGORIES:Acara Ulang Tahun,Berbagi
ATTACH;FMTTYPE=image/png:https://sahabatayahsarah.or.id/wp-content/uploads/2024/05/gdfhvj.png
END:VEVENT
BEGIN:VEVENT
DTSTART;VALUE=DATE:20240518
DTEND;VALUE=DATE:20240519
DTSTAMP:20260422T192840
CREATED:20240506T081211Z
LAST-MODIFIED:20240521T130618Z
UID:3760-1716051600-1716137999@sahabatayahsarah.or.id
SUMMARY:ZAP "Corporate Social Responsibility"
DESCRIPTION:
URL:https://sahabatayahsarah.or.id/event/kunjungan-zap/
LOCATION:Rumah Singgah SAS\, 14\, Jl. Penggilingan Baru I Dalam No.29\, RT.14/RW.\, jakarta timur\, Jakarta Raya\, 13550\, Indonesia
CATEGORIES:Acara,Berbagi,kunjungan
ATTACH;FMTTYPE=image/png:https://sahabatayahsarah.or.id/wp-content/uploads/2024/05/Zap.png
END:VEVENT
BEGIN:VEVENT
DTSTART;VALUE=DATE:20240508
DTEND;VALUE=DATE:20240509
DTSTAMP:20260422T192840
CREATED:20240404T062735Z
LAST-MODIFIED:20240509T110045Z
UID:3722-1715187600-1715273999@sahabatayahsarah.or.id
SUMMARY:Berbagi Cerita dan Kasih dengan Anak Dampingan Bersama Komunitas Imanuel
DESCRIPTION:
URL:https://sahabatayahsarah.or.id/event/berbagi-cerita-dan-kisah-dengan-anak-dampingan-bersama-komunitas-imanuel/
LOCATION:Rumah Singgah SAS\, 14\, Jl. Penggilingan Baru I Dalam No.29\, RT.14/RW.\, jakarta timur\, Jakarta Raya\, 13550\, Indonesia
CATEGORIES:Berbagi,kunjungan
ATTACH;FMTTYPE=image/png:https://sahabatayahsarah.or.id/wp-content/uploads/2024/04/gil.png
END:VEVENT
BEGIN:VEVENT
DTSTART;VALUE=DATE:20240323
DTEND;VALUE=DATE:20240324
DTSTAMP:20260422T192840
CREATED:20240305T024632Z
LAST-MODIFIED:20240402T052211Z
UID:3535-1711213200-1711299599@sahabatayahsarah.or.id
SUMMARY:Berbagi Bersama "Donasi Kasih"
DESCRIPTION:
URL:https://sahabatayahsarah.or.id/event/berbagi-bersama-donasi-kasih/
LOCATION:Rumah Singgah SAS\, 14\, Jl. Penggilingan Baru I Dalam No.29\, RT.14/RW.\, jakarta timur\, Jakarta Raya\, 13550\, Indonesia
CATEGORIES:Berbagi
ATTACH;FMTTYPE=image/png:https://sahabatayahsarah.or.id/wp-content/uploads/2024/03/dtylg.png
END:VEVENT
BEGIN:VEVENT
DTSTART;VALUE=DATE:20240128
DTEND;VALUE=DATE:20240129
DTSTAMP:20260422T192840
CREATED:20240130T082105Z
LAST-MODIFIED:20240130T083540Z
UID:3317-1706461200-1706547599@sahabatayahsarah.or.id
SUMMARY:Berbagi PT. Dharma Lancar Sukses
DESCRIPTION:
URL:https://sahabatayahsarah.or.id/event/berbagi-pt-dharma-lancar-sukses/
LOCATION:Rumah Singgah SAS\, 14\, Jl. Penggilingan Baru I Dalam No.29\, RT.14/RW.\, jakarta timur\, Jakarta Raya\, 13550\, Indonesia
CATEGORIES:Berbagi
ATTACH;FMTTYPE=image/png:https://sahabatayahsarah.or.id/wp-content/uploads/2024/01/pt-daarrrr.png
END:VEVENT
BEGIN:VEVENT
DTSTART;VALUE=DATE:20240118
DTEND;VALUE=DATE:20240119
DTSTAMP:20260422T192840
CREATED:20240126T082023Z
LAST-MODIFIED:20240126T082024Z
UID:3299-1705597200-1705683599@sahabatayahsarah.or.id
SUMMARY:Kunjungan dari TNI AU SOBAT 24
DESCRIPTION:
URL:https://sahabatayahsarah.or.id/event/kunjungan-dari-tni-au-sobat-24/
LOCATION:Rumah Singgah SAS\, 14\, Jl. Penggilingan Baru I Dalam No.29\, RT.14/RW.\, jakarta timur\, Jakarta Raya\, 13550\, Indonesia
CATEGORIES:Berbagi,kunjungan
ATTACH;FMTTYPE=image/png:https://sahabatayahsarah.or.id/wp-content/uploads/2024/01/TNI-AU.png
ORGANIZER;CN="Septia":MAILTO:septiasulistiorinij5@gmail.com
END:VEVENT
BEGIN:VEVENT
DTSTART;VALUE=DATE:20231219
DTEND;VALUE=DATE:20231220
DTSTAMP:20260422T192840
CREATED:20231206T085340Z
LAST-MODIFIED:20231222T051025Z
UID:2956-1703005200-1703091599@sahabatayahsarah.or.id
SUMMARY:Kunjungan PT. Fajar Lestari Sejati
DESCRIPTION:
URL:https://sahabatayahsarah.or.id/event/kunjungan-pt-lestari/
LOCATION:Rumah Singgah SAS\, 14\, Jl. Penggilingan Baru I Dalam No.29\, RT.14/RW.\, jakarta timur\, Jakarta Raya\, 13550\, Indonesia
CATEGORIES:Berbagi,kunjungan
ATTACH;FMTTYPE=image/png:https://sahabatayahsarah.or.id/wp-content/uploads/2023/12/EVENT-PT-FAJAR.png
ORGANIZER;CN="Septia":MAILTO:septiasulistiorinij5@gmail.com
END:VEVENT
BEGIN:VEVENT
DTSTART;VALUE=DATE:20231213
DTEND;VALUE=DATE:20231214
DTSTAMP:20260422T192840
CREATED:20231213T045617Z
LAST-MODIFIED:20231231T015102Z
UID:2996-1702486800-1702573199@sahabatayahsarah.or.id
SUMMARY:Kunjungan dari PT. Darya Varia Laboratoria
DESCRIPTION:
URL:https://sahabatayahsarah.or.id/event/kunjungan-dari-ka-denis/
LOCATION:Rumah Singgah SAS\, 14\, Jl. Penggilingan Baru I Dalam No.29\, RT.14/RW.\, jakarta timur\, Jakarta Raya\, 13550\, Indonesia
CATEGORIES:Berbagi,kunjungan
ATTACH;FMTTYPE=image/png:https://sahabatayahsarah.or.id/wp-content/uploads/2023/12/PT.-Darya-Varia-Laboratoria.png
ORGANIZER;CN="Septia":MAILTO:septiasulistiorinij5@gmail.com
END:VEVENT
BEGIN:VEVENT
DTSTART;VALUE=DATE:20231208
DTEND;VALUE=DATE:20231209
DTSTAMP:20260422T192840
CREATED:20231213T050018Z
LAST-MODIFIED:20231213T050019Z
UID:2998-1702054800-1702141199@sahabatayahsarah.or.id
SUMMARY:Berbagi Kebaikan dari Keluarga Bunda Ami
DESCRIPTION:
URL:https://sahabatayahsarah.or.id/event/berbagi-kebaikan-dari-keluarga-bunda-ami/
LOCATION:Rumah Singgah SAS\, 14\, Jl. Penggilingan Baru I Dalam No.29\, RT.14/RW.\, jakarta timur\, Jakarta Raya\, 13550\, Indonesia
CATEGORIES:Berbagi
ATTACH;FMTTYPE=image/jpeg:https://sahabatayahsarah.or.id/wp-content/uploads/2023/12/Gambar-WhatsApp-2023-12-11-pukul-15.54.14_ce340429.jpg
ORGANIZER;CN="Septia":MAILTO:septiasulistiorinij5@gmail.com
END:VEVENT
BEGIN:VEVENT
DTSTART;VALUE=DATE:20231201
DTEND;VALUE=DATE:20231202
DTSTAMP:20260422T192840
CREATED:20231124T145744Z
LAST-MODIFIED:20231204T121225Z
UID:2803-1701450000-1701536399@sahabatayahsarah.or.id
SUMMARY:Penyaluran Donasi dari SABER\, "Sahabat Berbagi".
DESCRIPTION:
URL:https://sahabatayahsarah.or.id/event/kunjungan-berdonasi-untuk-anak-anak-dampingan/
LOCATION:Rumah Singgah SAS\, 14\, Jl. Penggilingan Baru I Dalam No.29\, RT.14/RW.\, jakarta timur\, Jakarta Raya\, 13550\, Indonesia
CATEGORIES:Berbagi,kunjungan
ATTACH;FMTTYPE=image/png:https://sahabatayahsarah.or.id/wp-content/uploads/2023/11/SABER.png
END:VEVENT
END:VCALENDAR