BEGIN:VCALENDAR
VERSION:2.0
PRODID:-// - ECPv6.15.20//NONSGML v1.0//EN
CALSCALE:GREGORIAN
METHOD:PUBLISH
X-ORIGINAL-URL:https://sahabatayahsarah.or.id
X-WR-CALDESC:Events for 
REFRESH-INTERVAL;VALUE=DURATION:PT1H
X-Robots-Tag:noindex
X-PUBLISHED-TTL:PT1H
BEGIN:VTIMEZONE
TZID:Asia/Krasnoyarsk
BEGIN:STANDARD
TZOFFSETFROM:+0700
TZOFFSETTO:+0700
TZNAME:+07
DTSTART:20211231T170000
END:STANDARD
END:VTIMEZONE
BEGIN:VTIMEZONE
TZID:UTC
BEGIN:STANDARD
TZOFFSETFROM:+0000
TZOFFSETTO:+0000
TZNAME:UTC
DTSTART:20211231T170000
END:STANDARD
END:VTIMEZONE
BEGIN:VEVENT
DTSTART;VALUE=DATE:20260206
DTEND;VALUE=DATE:20260207
DTSTAMP:20260420T013637
CREATED:20260110T131647Z
LAST-MODIFIED:20260211T045124Z
UID:6045-1770397200-1770483599@sahabatayahsarah.or.id
SUMMARY:komunitas Soco Giving : Melakukan kegiatan sosial di YSAS
DESCRIPTION:komunitas Soco Giving : Melakukan kegiatan sosial di YSAS
URL:https://sahabatayahsarah.or.id/event/komunitas-soco-giving/
LOCATION:Rumah Singgah SAS\, 14\, Jl. Penggilingan Baru I Dalam No.29\, RT.14/RW.\, jakarta timur\, Jakarta Raya\, 13550\, Indonesia
CATEGORIES:Acara,Berbagi
ATTACH;FMTTYPE=image/png:https://sahabatayahsarah.or.id/wp-content/uploads/2026/01/dsdsf-1.png
END:VEVENT
BEGIN:VEVENT
DTSTART;VALUE=DATE:20260109
DTEND;VALUE=DATE:20260110
DTSTAMP:20260420T013637
CREATED:20260109T111323Z
LAST-MODIFIED:20260110T133945Z
UID:6032-1767978000-1768064399@sahabatayahsarah.or.id
SUMMARY:Acara bersama ka juliana
DESCRIPTION:Rumah Singgah Yayasan Sahabat Ayah Sarah kembali menjadi tempat penuh cerita dan kehangatan. Kali ini\, kebahagiaan hadir lewat kebersamaan bersama Ka Juliana\, yang meluangkan waktu untuk berkunjung dan berbagi momen bersama anak-anak dampingan. \nSejak awal kegiatan dimulai\, suasana terasa akrab dan sederhana. Anak-anak menyambut dengan senyum\, tawa\, dan rasa antusias yang tulus. Bukan acara besar atau mewah\, tapi justru dari kebersamaan inilah makna itu terasa. Duduk bersama\, mengobrol santai\, mendengarkan cerita\, dan saling berbagi energi positif menjadi inti dari pertemuan ini. \nKa Juliana hadir bukan hanya sebagai tamu\, tetapi sebagai sosok yang mengajak anak-anak merasa didengar dan diperhatikan. Interaksi yang hangat membuat anak-anak lebih berani bercerita\, tertawa lepas\, dan menikmati waktu tanpa rasa canggung. Di Rumah Singgah Yayasan Sahabat Ayah Sarah\, hal-hal kecil seperti ini punya arti besar bagi tumbuhnya semangat dan harapan. \nKegiatan ini juga menjadi pengingat bahwa dukungan moral dan kehadiran nyata sangat berarti bagi anak-anak yang sedang berjuang dengan kondisi kesehatan dan kehidupan mereka. Rumah singgah bukan sekadar tempat tinggal sementara\, tetapi ruang aman untuk memulihkan hati\, membangun rasa percaya diri\, dan menumbuhkan mimpi. \nMelalui acara kebersamaan bersama Ka Juliana ini\, Yayasan Sahabat Ayah Sarah terus berupaya menghadirkan lingkungan yang penuh empati dan kasih sayang. Harapannya\, setiap kunjungan\, cerita\, dan tawa yang tercipta bisa menjadi bekal semangat bagi anak-anak dampingan untuk terus melangkah ke hari esok dengan lebih kuat. \nTerima kasih untuk setiap pihak yang terus mendukung dan membersamai perjalanan anak-anak di Rumah Singgah Yayasan Sahabat Ayah Sarah. Karena dari kebersamaan sederhana\, lahir harapan yang luar biasa.
URL:https://sahabatayahsarah.or.id/event/acara-bersama-ka-juliana/
LOCATION:Rumah Singgah SAS\, 14\, Jl. Penggilingan Baru I Dalam No.29\, RT.14/RW.\, jakarta timur\, Jakarta Raya\, 13550\, Indonesia
CATEGORIES:Acara,Berbagi
ATTACH;FMTTYPE=image/png:https://sahabatayahsarah.or.id/wp-content/uploads/2026/01/sgfjgkjh.png
END:VEVENT
BEGIN:VEVENT
DTSTART;VALUE=DATE:20251219
DTEND;VALUE=DATE:20251220
DTSTAMP:20260420T013637
CREATED:20260113T030535Z
LAST-MODIFIED:20260114T022000Z
UID:6057-1766163600-1766249999@sahabatayahsarah.or.id
SUMMARY:Acara Beyond The Miles Powered by Kitabisa di Cibis Park
DESCRIPTION:Acara Beyond The Miles Powered by Kitabisa di Cibis Park\nYayasan Sahabat Ayah Sarah menghadiri Acara Beyond The Miles Powered by Kitabisa di Cibis Park pada Sabtu\, 20 Desember 2025. Acara ini mempertemukan komunitas\, lembaga sosial\, dan pegiat kebaikan dalam satu ruang yang hangat dan terbuka. \nSejak awal\, panitia menciptakan suasana yang akrab dan penuh energi. Beyond The Miles memberi ruang bagi peserta untuk saling mengenal dan bertukar cerita. Selain itu\, setiap sesi mendorong percakapan yang relevan tentang kolaborasi dan dampak sosial. \nKitabisa menginisiasi acara ini sebagai bagian dari komitmennya dalam mendukung gerakan kebaikan. Tim penyelenggara menyusun rangkaian kegiatan dengan alur yang ringan dan mudah diikuti. Karena itu\, peserta dapat menikmati diskusi tanpa tekanan dan tetap fokus pada tujuan bersama. \nDi tengah kegiatan\, Yayasan Sahabat Ayah Sarah berkontribusi dengan menyalurkan donasi uang tunai sebesar Rp5.000.000. Donasi tersebut mendukung program sosial yang terus berjalan. Melalui kontribusi ini\, yayasan ingin memperluas manfaat dan menjangkau lebih banyak penerima. \nLebih jauh\, acara ini tidak hanya menyoroti soal donasi. Setiap interaksi membuka peluang kolaborasi baru. Oleh sebab itu\, percakapan ringan dan pertemuan singkat justru menjadi awal kerja sama yang berkelanjutan. \nSelain memperluas jejaring\, Beyond The Miles juga menumbuhkan rasa saling percaya antar komunitas. Banyak peserta membawa pulang ide segar dan semangat baru. Dengan begitu\, langkah kebaikan dapat terus bergerak dan berkembang. \nPada akhirnya\, Acara Beyond The Miles Powered by Kitabisa menegaskan bahwa kebaikan akan semakin kuat ketika banyak pihak berjalan bersama. Langkah kecil yang konsisten mampu menghadirkan dampak nyata. \nYayasan Sahabat Ayah Sarah mengucapkan terima kasih kepada Kitabisa atas undangan dan ruang kolaborasi ini. Semoga ke depan semakin banyak langkah kebaikan yang bisa kita tempuh bersama 🌱
URL:https://sahabatayahsarah.or.id/event/acara-beyond-the-miles-powered-by-kitabisa-di-cibis-park/
LOCATION:cibis park
CATEGORIES:Acara,Berbagi,Penyaluran Donasi
ATTACH;FMTTYPE=image/png:https://sahabatayahsarah.or.id/wp-content/uploads/2026/01/kjgfhgfu.png
END:VEVENT
BEGIN:VEVENT
DTSTART;VALUE=DATE:20251203
DTEND;VALUE=DATE:20251204
DTSTAMP:20260420T013637
CREATED:20260110T134806Z
LAST-MODIFIED:20260110T134807Z
UID:6049-1764781200-1764867599@sahabatayahsarah.or.id
SUMMARY:Kunjungan PT Triatra Sinergi Utama
DESCRIPTION:Kunjungan PT Triatra Sinergi Utama\nSuasana Rumah Singgah Yayasan Sahabat Ayah Sarah (YSAS) terasa lebih hangat dan penuh tawa saat PT Triatra Sinergi Utama hadir dalam kegiatan bertajuk “Hands of Hope”. Kunjungan ini menjadi momen kebersamaan yang berarti bagi adik-adik pejuang kesembuhan yang sedang menjalani masa perawatan. \nSejak awal kegiatan dimulai\, keceriaan langsung terlihat di wajah adik-adik. Kehadiran tim dari PT Triatra Sinergi Utama membawa energi positif yang membuat suasana Rumah Singgah semakin hidup. Tidak hanya datang berkunjung\, PT Triatra juga membersamai adik-adik dengan berbagai aktivitas seru dan menyenangkan. \nAdik-adik di ajak mengikuti fashion show sederhana\, bernyanyi bersama\, hingga berfoto-foto dengan penuh senyum. Aktivitas ini menjadi ruang bagi mereka untuk sejenak melupakan rutinitas pengobatan dan menikmati waktu bermain dengan hati yang lebih ringan. Tawa\, tepuk tangan\, dan sorak kecil mengisi setiap sudut Rumah Singgah. \nMelalui kegiatan Hands of Hope\, PT Triatra Sinergi Utama tidak hanya memberikan bantuan secara materi\, tetapi juga menghadirkan dukungan moral yang sangat berarti. Keceriaan yang tercipta diharapkan mampu menumbuhkan semangat baru bagi adik-adik untuk terus berjuang menuju kesembuhan. \nDalam kesempatan ini\, PT Triatra Sinergi Utama juga berbagi donasi berupa diapers\, susu khusus\, sembako\, kebutuhan harian pasien\, uang tunai\, serta bingkisan. Bantuan ini tentu sangat membantu dalam memenuhi kebutuhan sehari-hari adik-adik pejuang kesembuhan yang tinggal di Rumah Singgah YSAS. \nYayasan Sahabat Ayah Sarah mengucapkan terima kasih sebesar-besarnya kepada PT Triatra Sinergi Utama atas kunjungan\, kepedulian\, dan kebersamaan yang telah di berikan. Doa terbaik kami\, semoga PT Triatra Sinergi Utama semakin sukses ke depannya dan dapat terus menebar manfaat bagi sesama. Aamiin 🤍
URL:https://sahabatayahsarah.or.id/event/kunjungan-pt-triatra-sinergi-utama/
LOCATION:Rumah Singgah SAS\, 14\, Jl. Penggilingan Baru I Dalam No.29\, RT.14/RW.\, jakarta timur\, Jakarta Raya\, 13550\, Indonesia
CATEGORIES:Acara,Berbagi
ATTACH;FMTTYPE=image/png:https://sahabatayahsarah.or.id/wp-content/uploads/2026/01/jsrgj.png
END:VEVENT
BEGIN:VEVENT
DTSTART;VALUE=DATE:20240820
DTEND;VALUE=DATE:20240821
DTSTAMP:20260420T013637
CREATED:20240823T151010Z
LAST-MODIFIED:20240823T151010Z
UID:3993-1724173200-1724259599@sahabatayahsarah.or.id
SUMMARY:Tabinda
DESCRIPTION:
URL:https://sahabatayahsarah.or.id/event/tabinda/
LOCATION:Hotel
CATEGORIES:Acara
ATTACH;FMTTYPE=image/png:https://sahabatayahsarah.or.id/wp-content/uploads/2024/08/tabinda.png
END:VEVENT
BEGIN:VEVENT
DTSTART;VALUE=DATE:20240816
DTEND;VALUE=DATE:20240817
DTSTAMP:20260420T013637
CREATED:20240823T164057Z
LAST-MODIFIED:20240823T165129Z
UID:4001-1723827600-1723913999@sahabatayahsarah.or.id
SUMMARY:17 Agustus 2024
DESCRIPTION:
URL:https://sahabatayahsarah.or.id/event/17-agustus-2024/
LOCATION:Rumah Singgah SAS\, 14\, Jl. Penggilingan Baru I Dalam No.29\, RT.14/RW.\, jakarta timur\, Jakarta Raya\, 13550\, Indonesia
CATEGORIES:Acara
ATTACH;FMTTYPE=image/png:https://sahabatayahsarah.or.id/wp-content/uploads/2024/08/agus.png
END:VEVENT
BEGIN:VEVENT
DTSTART;VALUE=DATE:20240518
DTEND;VALUE=DATE:20240519
DTSTAMP:20260420T013637
CREATED:20240506T081211Z
LAST-MODIFIED:20240521T130618Z
UID:3760-1716051600-1716137999@sahabatayahsarah.or.id
SUMMARY:ZAP "Corporate Social Responsibility"
DESCRIPTION:
URL:https://sahabatayahsarah.or.id/event/kunjungan-zap/
LOCATION:Rumah Singgah SAS\, 14\, Jl. Penggilingan Baru I Dalam No.29\, RT.14/RW.\, jakarta timur\, Jakarta Raya\, 13550\, Indonesia
CATEGORIES:Acara,Berbagi,kunjungan
ATTACH;FMTTYPE=image/png:https://sahabatayahsarah.or.id/wp-content/uploads/2024/05/Zap.png
END:VEVENT
BEGIN:VEVENT
DTSTART;VALUE=DATE:20240214
DTEND;VALUE=DATE:20240215
DTSTAMP:20260420T013637
CREATED:20240215T045615Z
LAST-MODIFIED:20240217T091259Z
UID:3357-1707930000-1708016399@sahabatayahsarah.or.id
SUMMARY:Hari Kanker Anak Sedunia 15 Februari 2024
DESCRIPTION:
URL:https://sahabatayahsarah.or.id/event/hari-kanker-anak-sedunia-15-februari-2024/
LOCATION:Dinopark Lippo Mall Kramatjati Lt.3\, Dinopark Lippo Plaza Kramatjati Lt.3\, Jakarta Timur\, DKI Jakarta\, 13550\, Indonesia
CATEGORIES:Acara
ATTACH;FMTTYPE=image/jpeg:https://sahabatayahsarah.or.id/wp-content/uploads/2024/02/nfhugkdgf.jpg
END:VEVENT
BEGIN:VEVENT
DTSTART;VALUE=DATE:20231118
DTEND;VALUE=DATE:20231119
DTSTAMP:20260420T013637
CREATED:20231118T135653Z
LAST-MODIFIED:20231121T120959Z
UID:2761-1700326800-1700413199@sahabatayahsarah.or.id
SUMMARY:Kunjungan  dalam rangka Ulang Tahun Beby Tsabina
DESCRIPTION:
URL:https://sahabatayahsarah.or.id/event/kunjungan-berdonasi/
LOCATION:Rumah Singgah SAS\, 14\, Jl. Penggilingan Baru I Dalam No.29\, RT.14/RW.\, jakarta timur\, Jakarta Raya\, 13550\, Indonesia
CATEGORIES:Acara,Berbagi,kunjungan,Penyaluran Donasi
ATTACH;FMTTYPE=image/png:https://sahabatayahsarah.or.id/wp-content/uploads/2023/11/BEBY-EVENT.png
END:VEVENT
BEGIN:VEVENT
DTSTART;VALUE=DATE:20231021
DTEND;VALUE=DATE:20231022
DTSTAMP:20260420T013637
CREATED:20231006T045517Z
LAST-MODIFIED:20231023T033342Z
UID:2575-1697907600-1697993999@sahabatayahsarah.or.id
SUMMARY:Sahabat Sunter Hadir untuk Berdonasi
DESCRIPTION:Sahabat Sunter Hadir untuk Berdonasi
URL:https://sahabatayahsarah.or.id/event/sahabat-sunter-hadir-untuk-berdonasi/
LOCATION:Rumah Singgah SAS\, 14\, Jl. Penggilingan Baru I Dalam No.29\, RT.14/RW.\, jakarta timur\, Jakarta Raya\, 13550\, Indonesia
CATEGORIES:Acara,Berbagi
ATTACH;FMTTYPE=image/png:https://sahabatayahsarah.or.id/wp-content/uploads/2023/10/TEMAN-TEMAN-SUNTER.png
ORGANIZER;CN="Diva":MAILTO:diva_hihihi@yahoo.com
END:VEVENT
BEGIN:VEVENT
DTSTART;VALUE=DATE:20231012
DTEND;VALUE=DATE:20231013
DTSTAMP:20260420T013637
CREATED:20230927T001735Z
LAST-MODIFIED:20231015T185343Z
UID:2543-1697130000-1697216399@sahabatayahsarah.or.id
SUMMARY:PT Preciousnine Consulting Berkunjung untuk YSAS
DESCRIPTION:PT Preciousnine Consulting bermain bersama anak-anak dampingan yayasan sahabat ayah sarah di rumah singgah.
URL:https://sahabatayahsarah.or.id/event/pt-preciousnine-consulting/
LOCATION:Rumah Singgah SAS\, 14\, Jl. Penggilingan Baru I Dalam No.29\, RT.14/RW.\, jakarta timur\, Jakarta Raya\, 13550\, Indonesia
CATEGORIES:Acara,Berbagi
ATTACH;FMTTYPE=image/png:https://sahabatayahsarah.or.id/wp-content/uploads/2023/09/PT.png
ORGANIZER;CN="PT Preciousnine Consulting":MAILTO:yuwaninda.mega@preciousnine.com
END:VEVENT
BEGIN:VEVENT
DTSTART;VALUE=DATE:20230908
DTEND;VALUE=DATE:20230909
DTSTAMP:20260420T013637
CREATED:20230831T231748Z
LAST-MODIFIED:20231014T030955Z
UID:2021-1694192400-1694278799@sahabatayahsarah.or.id
SUMMARY:All Fanbase THOFU Berbagi untuk YSAS
DESCRIPTION:All Fanbase THOFU Berbagi untuk yayasan sahabat ayah sarah dan bermain bersama pasien dampingan dirumah singgah. \n 
URL:https://sahabatayahsarah.or.id/event/all-fanbase-thofu-berbagi-untuk-ysas/
LOCATION:Rumah Singgah SAS\, 14\, Jl. Penggilingan Baru I Dalam No.29\, RT.14/RW.\, jakarta timur\, Jakarta Raya\, 13550\, Indonesia
CATEGORIES:Acara,Berbagi
ATTACH;FMTTYPE=image/png:https://sahabatayahsarah.or.id/wp-content/uploads/2023/09/THOFU-1.png
ORGANIZER;CN="Septia":MAILTO:septiasulistiorinij5@gmail.com
END:VEVENT
BEGIN:VEVENT
DTSTART;VALUE=DATE:20230902
DTEND;VALUE=DATE:20230903
DTSTAMP:20260420T013637
CREATED:20230827T230711Z
LAST-MODIFIED:20231014T032037Z
UID:1895-1693674000-1693760399@sahabatayahsarah.or.id
SUMMARY:Acara Bersama ZAP
DESCRIPTION:Acara Bersama ZAP memberikan bantuan keperluan rumah singgah yayasan dan suntik Vitamin C untuk orangtua pasien.
URL:https://sahabatayahsarah.or.id/event/acara-bersama-zap/
LOCATION:Rumah Singgah SAS\, 14\, Jl. Penggilingan Baru I Dalam No.29\, RT.14/RW.\, jakarta timur\, Jakarta Raya\, 13550\, Indonesia
CATEGORIES:Acara
ATTACH;FMTTYPE=image/png:https://sahabatayahsarah.or.id/wp-content/uploads/2023/09/Tanpa-judul-430-×-300-piksel-3.png
END:VEVENT
END:VCALENDAR