BEGIN:VCALENDAR
VERSION:2.0
PRODID:-// - ECPv6.15.20//NONSGML v1.0//EN
CALSCALE:GREGORIAN
METHOD:PUBLISH
X-ORIGINAL-URL:https://sahabatayahsarah.or.id
X-WR-CALDESC:Events for 
REFRESH-INTERVAL;VALUE=DURATION:PT1H
X-Robots-Tag:noindex
X-PUBLISHED-TTL:PT1H
BEGIN:VTIMEZONE
TZID:Asia/Krasnoyarsk
BEGIN:STANDARD
TZOFFSETFROM:+0700
TZOFFSETTO:+0700
TZNAME:+07
DTSTART:20221231T170000
END:STANDARD
END:VTIMEZONE
BEGIN:VEVENT
DTSTART;VALUE=DATE:20240827
DTEND;VALUE=DATE:20240828
DTSTAMP:20260422T192455
CREATED:20240904T101605Z
LAST-MODIFIED:20240904T101605Z
UID:4032-1724778000-1724864399@sahabatayahsarah.or.id
SUMMARY:Kebahagiaan yang sederhana bersama ka Seto
DESCRIPTION:
URL:https://sahabatayahsarah.or.id/event/kebahagiaan-yang-sederhana-bersama-ka-seto/
LOCATION:Rumah Singgah SAS\, 14\, Jl. Penggilingan Baru I Dalam No.29\, RT.14/RW.\, jakarta timur\, Jakarta Raya\, 13550\, Indonesia
CATEGORIES:Acara Ulang Tahun,Berbagi,kunjungan
ATTACH;FMTTYPE=image/png:https://sahabatayahsarah.or.id/wp-content/uploads/2024/09/event-kaet.png
END:VEVENT
BEGIN:VEVENT
DTSTART;VALUE=DATE:20240820
DTEND;VALUE=DATE:20240821
DTSTAMP:20260422T192455
CREATED:20240823T150242Z
LAST-MODIFIED:20240823T150242Z
UID:3989-1724173200-1724259599@sahabatayahsarah.or.id
SUMMARY:Selamat Ulang Tahun Ka Omesh
DESCRIPTION:
URL:https://sahabatayahsarah.or.id/event/selamat-ulang-tahun-ka-omesh/
LOCATION:Rumah Singgah SAS\, 14\, Jl. Penggilingan Baru I Dalam No.29\, RT.14/RW.\, jakarta timur\, Jakarta Raya\, 13550\, Indonesia
CATEGORIES:Acara Ulang Tahun
ATTACH;FMTTYPE=image/png:https://sahabatayahsarah.or.id/wp-content/uploads/2024/08/mes.png
END:VEVENT
BEGIN:VEVENT
DTSTART;VALUE=DATE:20240525
DTEND;VALUE=DATE:20240526
DTSTAMP:20260422T192455
CREATED:20240522T150713Z
LAST-MODIFIED:20240527T060251Z
UID:3824-1716656400-1716742799@sahabatayahsarah.or.id
SUMMARY:Acara Syukuran Ulang Tahun Ananda Pandu
DESCRIPTION:
URL:https://sahabatayahsarah.or.id/event/acara-syukuran-ulang-tahun/
LOCATION:Rumah Singgah SAS\, 14\, Jl. Penggilingan Baru I Dalam No.29\, RT.14/RW.\, jakarta timur\, Jakarta Raya\, 13550\, Indonesia
CATEGORIES:Acara Ulang Tahun,Berbagi
ATTACH;FMTTYPE=image/png:https://sahabatayahsarah.or.id/wp-content/uploads/2024/05/gdfhvj.png
END:VEVENT
BEGIN:VEVENT
DTSTART;VALUE=DATE:20240127
DTEND;VALUE=DATE:20240128
DTSTAMP:20260422T192455
CREATED:20240130T094112Z
LAST-MODIFIED:20240130T094112Z
UID:3325-1706374800-1706461199@sahabatayahsarah.or.id
SUMMARY:Selamat Ulang Tahun Ka Dessy
DESCRIPTION:
URL:https://sahabatayahsarah.or.id/event/selamat-ulang-tahun-ka-dessy/
LOCATION:Rumah Singgah SAS\, 14\, Jl. Penggilingan Baru I Dalam No.29\, RT.14/RW.\, jakarta timur\, Jakarta Raya\, 13550\, Indonesia
CATEGORIES:Acara Ulang Tahun
ATTACH;FMTTYPE=image/png:https://sahabatayahsarah.or.id/wp-content/uploads/2024/01/opkhgghn.png
END:VEVENT
BEGIN:VEVENT
DTSTART;VALUE=DATE:20240127
DTEND;VALUE=DATE:20240128
DTSTAMP:20260422T192455
CREATED:20240130T092538Z
LAST-MODIFIED:20240130T092539Z
UID:3322-1706374800-1706461199@sahabatayahsarah.or.id
SUMMARY:Dalam Rangka Acara Ulang Tahun Ka Rakha
DESCRIPTION:
URL:https://sahabatayahsarah.or.id/event/dalam-rangka-acara-ulang-tahun-ka-rakha/
LOCATION:Rumah Singgah SAS\, 14\, Jl. Penggilingan Baru I Dalam No.29\, RT.14/RW.\, jakarta timur\, Jakarta Raya\, 13550\, Indonesia
CATEGORIES:Acara Ulang Tahun
ATTACH;FMTTYPE=image/png:https://sahabatayahsarah.or.id/wp-content/uploads/2024/01/okhdh.png
END:VEVENT
END:VCALENDAR